BEGIN:VCALENDAR
VERSION:2.0
PRODID:-//Chima Steakhouse - ECPv6.15.20//NONSGML v1.0//EN
CALSCALE:GREGORIAN
METHOD:PUBLISH
X-ORIGINAL-URL:https://chimasteakhouse.com
X-WR-CALDESC:Events for Chima Steakhouse
REFRESH-INTERVAL;VALUE=DURATION:PT1H
X-Robots-Tag:noindex
X-PUBLISHED-TTL:PT1H
BEGIN:VTIMEZONE
TZID:America/New_York
BEGIN:DAYLIGHT
TZOFFSETFROM:-0500
TZOFFSETTO:-0400
TZNAME:EDT
DTSTART:20250309T070000
END:DAYLIGHT
BEGIN:STANDARD
TZOFFSETFROM:-0400
TZOFFSETTO:-0500
TZNAME:EST
DTSTART:20251102T060000
END:STANDARD
BEGIN:DAYLIGHT
TZOFFSETFROM:-0500
TZOFFSETTO:-0400
TZNAME:EDT
DTSTART:20260308T070000
END:DAYLIGHT
BEGIN:STANDARD
TZOFFSETFROM:-0400
TZOFFSETTO:-0500
TZNAME:EST
DTSTART:20261101T060000
END:STANDARD
BEGIN:DAYLIGHT
TZOFFSETFROM:-0500
TZOFFSETTO:-0400
TZNAME:EDT
DTSTART:20270314T070000
END:DAYLIGHT
BEGIN:STANDARD
TZOFFSETFROM:-0400
TZOFFSETTO:-0500
TZNAME:EST
DTSTART:20271107T060000
END:STANDARD
END:VTIMEZONE
BEGIN:VEVENT
DTSTART;VALUE=DATE:20260123
DTEND;VALUE=DATE:20260701
DTSTAMP:20260423T072141
CREATED:20260123T151950Z
LAST-MODIFIED:20260412T221619Z
UID:87588-1769126400-1782863999@chimasteakhouse.com
SUMMARY:Weekend Lunch at Chima Orlando - starting at $36
DESCRIPTION:Your weekend lunch plans are officially set. Join us for lunch at Chima Steakhouse Orlando – located in Dr Phillips. \nJoin us every Saturday and Sunday for a relaxed and flavorful lunch experience at Chima – perfect for catching up with friends\, family gatherings\, or a leisurely midday indulgence. \nGourmet Salad Bar – $36\nEnjoy unlimited access to our gourmet salad bar featuring fresh salads\, imported charcuterie and cheeses\, hot dishes\, and seasonal specialties. \nA perfect option for those who want to experience Chima’s flavors at a lighter pace. \nFull Rodizio Experience – $52*\nIncludes unlimited signature cuts\, gourmet salad bar\, and traditional side dishes. \nSavor a curated selection of premium meats and non-meat items\, including:Top Sirloin (Picanha)\, Top Sirloin with Garlic\,  Filet Mignon\, Filet Wrapped in Bacon\, Teriyaki Filet Mignon;\nBeef Ribs\, Ribeye\, Flank Steak\, Lamb Chops\, Lamb Picanha\, Salmon\, Shrimp\, Beer-Marinated Drumsticks\, Aji Chicken Thighs\,\nBrazilian Sausage\, Cheddar Sausage\, Grilled Vegetables\, Coalho Cheese\, and Pineapple with Cinnamon. \nTraditional sides include: creamy mashed potatoes\, fried polenta\, and fried bananas. \n\nEnhance Your Experience\nAdd two grilled lobster tails to any menu option for only $22 \nBottomless Drinks  $29.90Unlimited Mimosas\, Bloody Marys\, and Sangria. \nSaturdays & Sundays\n12:30 p.m. to 3:00 p.m. \nLive music every Sunday during lunch \nReservations (321) 404-6001\nOr Click to reserve online
URL:https://chimasteakhouse.com/event/weekend-lunch-at-chima-orlando-starting-at-36/
CATEGORIES:Orlando
ATTACH;FMTTYPE=image/jpeg:https://chimasteakhouse.com/wp-content/uploads/2026/03/6.jpg
END:VEVENT
BEGIN:VEVENT
DTSTART;VALUE=DATE:20260123
DTEND;VALUE=DATE:20260701
DTSTAMP:20260423T072141
CREATED:20260123T153352Z
LAST-MODIFIED:20260123T153352Z
UID:87594-1769126400-1782863999@chimasteakhouse.com
SUMMARY:Weekend Lunch at Chima Steakhouse l Uptown Charlotte
DESCRIPTION:Your weekend lunch plans are officially set. \nJoin us every Saturday and Sunday for a relaxed and flavorful lunch experience at Chima Charlotte – perfect for catching up with friends\, celebrating special moments\, or enjoying a leisurely midday indulgence in Uptown. \nGourmet Salad Bar  $36\nEnjoy unlimited access to our gourmet salad bar featuring fresh salads\, imported charcuterie and cheeses\, hot dishes\, and seasonal specialties. \nA perfect option for those who want to experience Chima’s flavors at a lighter pace. \nFull Rodizio Experience  $50*\nIncludes unlimited signature cuts\, gourmet salad bar\, and traditional side dishes. \nSavor a curated selection of premium meats and non-meat items\, including:Top Sirloin (Picanha)\, Top Sirloin with Garlic\, Filet Mignon\, Filet Wrapped in Bacon\, Teriyaki Filet Mignon\,\nBeef Ribs\, Ribeye\, Flank Steak\, Lamb Chops\, Lamb Picanha\, Salmon\, Shrimp\, Beer-Marinated Drumsticks\, Aji Chicken Thighs\,\nBrazilian Sausage\, Cheddar Sausage\, Grilled Vegetables\, Coalho Cheese\, and Pineapple with Cinnamon. \nTraditional sides include: creamy mashed potatoes\, fried polenta\, and fried bananas. \n\nEnhance Your Experience\nAdd two grilled lobster tails to any menu option for only $22 \nSaturdays & Sundays12:30 p.m. – 3:00 p.m. \nReservations (704) 601-4141\nOr Click to reserve online
URL:https://chimasteakhouse.com/event/weekend-lunch-at-chima-steakhouse-l-uptown-charlotte/
CATEGORIES:Charlotte
ATTACH;FMTTYPE=image/png:https://chimasteakhouse.com/wp-content/uploads/2025/05/Screenshot-2025-05-09-at-12.14.37 PM.png
END:VEVENT
BEGIN:VEVENT
DTSTART;VALUE=DATE:20260322
DTEND;VALUE=DATE:20260601
DTSTAMP:20260423T072141
CREATED:20260322T191937Z
LAST-MODIFIED:20260323T155535Z
UID:92991-1774137600-1780271999@chimasteakhouse.com
SUMMARY:Friday Lunch in Charlotte | A New Experience
DESCRIPTION:Friday Lunch at Chima Steakhouse Charlotte\nChima Steakhouse is now serving Friday lunch in Charlotte\, offering a refined mid-day dining experience in the heart of Uptown.\nAvailable from 12 to 3 PM every Friday\, guests can enjoy a new way to lunch with flexible options designed to fit your schedule – whether you’re joining us for a business lunch\, a casual get-together\, or a mid-day meeting.\nChoose Your Friday Lunch Experience \nGOURMET BAR – $20\nEnjoy our Gourmet Bar  featuring:\nFilet Mignon with Gorgonzola Sauce – Au Gratin Potatoes – Smoked Salmon  – Imported cheeses & charcuterie – Beef carpaccio – Gourmet Salads and additional selections.\nA LA CARTE CUTS – Enhance your experience with  grilled protein add-ons:\n– Top Sirloin – Picanha (10 oz) $14\n– Filet Mignon wrapped in bacon (6 pieces) $14\n– Salmon (8 oz) $14\n– Ribeye (10 oz) $24\n– Lamb Chops (10 0z) $30\nSPECIAL RODIZIO $40\nFor a more indulgent experience\, enjoy our Special Rodizio for $40\, featuring a selection of our signature cuts\, served tableside\, along with the Gourmet Bar and traditional Brazilian side dishes\nSelect cuts include: Top Sirloin (Picanha)\, Garlic Top Sirloin\, Filet wrapped in bacon\, Lamb Picanha\, Aji Chicken Thighs\, Beer-Marinated Drumsticks\, Brazilian Sausage\, Cheddar Sausage\, Grilled Coalho Cheese\, and Grilled Pineapple.\nSide dishes include creamy mashed potatoes\, fried polenta\, and fried bananas.\nCall (704) 601-4141\nOr Click to reserve online \nA New Way to Lunch in Uptown Charlotte\nChima’s Friday lunch is perfect for those looking for a high-quality lunch in Charlotte without compromising on experience.\nWhether you’re dining with colleagues or meeting friends\, enjoy the same signature Chima atmosphere in a more flexible mid-day format.\nPlease note: complete rodizio available on Saturdays and Sundays during lunch.
URL:https://chimasteakhouse.com/event/friday-lunch-in-charlotte-chima-steakhouse-lunch-experience/
CATEGORIES:Charlotte
ATTACH;FMTTYPE=image/jpeg:https://chimasteakhouse.com/wp-content/uploads/2026/03/CLT-Friday-Lunch-HAPPENINGS-1.jpg
END:VEVENT
BEGIN:VEVENT
DTSTART;VALUE=DATE:20260406
DTEND;VALUE=DATE:20260511
DTSTAMP:20260423T072141
CREATED:20260406T201314Z
LAST-MODIFIED:20260411T181926Z
UID:93656-1775433600-1778457599@chimasteakhouse.com
SUMMARY:Mother’s Day 2026 at Chima Orlando | Restaurant Row Dining
DESCRIPTION:Celebrate Mother’s Day 2026 on Restaurant Row. Give Mom a world-class celebration at Chima Steakhouse Orlando.\nPerfectly situated in the heart of Dr. Phillips on Restaurant Row\, we offer the premier Brazilian Steakhouse experience in Orlando. \nSUNDAY\, MAY 10th –  11 AM to 9 PM \nClick to reserve online\nReservations: (321) 404-6001 \nTreat her to our Complete Rodizio Experience – Mom deserves the best!\n$72 per person \nkids 7 to 11: Half off\nKids 6 & under: Complimentary \nFor locals in the Dr. Phillips area or visitors looking for the best of Orlando’s dining scene\, Chima is the top choice for an elegant Mother’s Day dinner on Restaurant Row. \n\n\nA credit card is required to reserve. Cancelations must be done by May 9th before 6 p.m. to avoid a $20 per person no-show fee.\nNo coupons accepted on Sunday\, May 10th 2026
URL:https://chimasteakhouse.com/event/mothers-day-2026-at-chima-orlando-restaurant-row-dining/
CATEGORIES:Orlando
ATTACH;FMTTYPE=image/jpeg:https://chimasteakhouse.com/wp-content/uploads/2026/04/Happenings-Mothers-Day-2026-copy.jpg
END:VEVENT
BEGIN:VEVENT
DTSTART;VALUE=DATE:20260407
DTEND;VALUE=DATE:20260511
DTSTAMP:20260423T072141
CREATED:20260407T221549Z
LAST-MODIFIED:20260416T180421Z
UID:93732-1775520000-1778457599@chimasteakhouse.com
SUMMARY:Mother’s Day 2026 at Chima  Fort Lauderdale | Las Olas Dining
DESCRIPTION:Celebrate Mother’s Day 2026 on Las Olas .\nMake this Mother’s Day unforgettable by joining us at Chima Steakhouse in Fort Lauderdale. Located in the heart of Las Olas\, we provide the perfect upscale atmosphere to honor Mom. \nSunday\, May 10th l 11:00 AM to 9:00 PM\nTreat Mom to an unforgettable  Experience – Mom deserves the best!\n$70 per person \nkids 7 to 11: Half off\nKids 6 & under: Complimentary \nReservations (954) 712-0580\nOr Click to reserve online \n\n\nA credit card is required to reserve. Cancelations must be done by May 9th before 6 p.m. to avoid a $20 per person no-show fee.\nNo coupons accepted on May 10\, 2026
URL:https://chimasteakhouse.com/event/mothers-day-2026-at-chima-fort-lauderdale-las-olas-dining/
CATEGORIES:Fort Lauderdale
ATTACH;FMTTYPE=image/png:https://chimasteakhouse.com/wp-content/uploads/2026/04/Happenings-Mothers-Day-1200x800-1.png
END:VEVENT
BEGIN:VEVENT
DTSTART;VALUE=DATE:20260408
DTEND;VALUE=DATE:20260511
DTSTAMP:20260423T072141
CREATED:20260408T142314Z
LAST-MODIFIED:20260416T180355Z
UID:93773-1775606400-1778457599@chimasteakhouse.com
SUMMARY:Mother’s Day 2026 in Uptown Charlotte | Chima Steakhouse
DESCRIPTION:The Ultimate Mother’s Day Celebration in Uptown Charlotte.\nLooking for the best place to take Mom in Uptown Charlotte? \nTreat Mom to an unforgettable dining experience\nMay 10 l 11 AM to 9 PM\n\nComplete Rodizio $70\nKids 7-11 years old: Half off\nKids 6 & under: Complimentary \nReservations (704) 601-4141\nClick to reserve online \nExperience why Chima is the top-rated rodizio in Charlotte for special family occasions. \n\n\nA credit card is required to reserve. Cancelations must be done by May 9th before 6 p.m. to avoid a $20 per person no-show fee.\nNo coupons accepted on Sunday\, May 10th 2026.
URL:https://chimasteakhouse.com/event/mothers-day-2026-in-uptown-charlotte-chima-steakhouse/
CATEGORIES:Charlotte
ATTACH;FMTTYPE=image/png:https://chimasteakhouse.com/wp-content/uploads/2026/04/Happenings-Mothers-Day-1200x800-1.png
END:VEVENT
BEGIN:VEVENT
DTSTART;VALUE=DATE:20260408
DTEND;VALUE=DATE:20260511
DTSTAMP:20260423T072141
CREATED:20260408T142708Z
LAST-MODIFIED:20260416T180204Z
UID:93777-1775606400-1778457599@chimasteakhouse.com
SUMMARY:Mother’s Day 2026 at Chima Tysons Corner
DESCRIPTION:The Ultimate Mother’s Day Celebration in Tysons Corner\nLooking for the best place to take Mom in Tysons Corner? \nTreat Mom to an unforgettable dining experience\nMay 10 l 11 AM to 9 PM\n\nComplete Rodizio $70\nKids 7-11 years old: Half off\nKids 6 & under: Complimentary \nReservations (703) 639-3080 \nClick to reserve online \nExperience why Chima is the top-rated rodizio in Tysons Corner for special family occasions. \n\n\nA credit card is required to reserve. Cancelations must be done by May 9th before 6 p.m. to avoid a $20 per person no-show fee.\nNo coupons accepted on Sunday\, May 10th 2026.
URL:https://chimasteakhouse.com/event/mothers-day-2026-at-chima-tysons-corner/
CATEGORIES:Tyson's Corner
ATTACH;FMTTYPE=image/png:https://chimasteakhouse.com/wp-content/uploads/2026/04/Happenings-Mothers-Day-1200x800-1.png
END:VEVENT
BEGIN:VEVENT
DTSTART;VALUE=DATE:20260414
DTEND;VALUE=DATE:20261001
DTSTAMP:20260423T072141
CREATED:20260414T135741Z
LAST-MODIFIED:20260414T180233Z
UID:94094-1776124800-1790812799@chimasteakhouse.com
SUMMARY:Friday Lunch at Chima Steakhouse Orlando - Starting April 24th
DESCRIPTION:Chima Steakhouse is now serving Friday lunch in Orlando\, bringing a refined mid-day dining experience to the heart of Restaurant Row in Dr. Phillips. \nStarting on the 24th\, join us every Friday from 12 to 3 PM and enjoy a new way to lunch-designed with flexibility in mind.\nWhether you’re planning a business lunch\, meeting friends\, or stepping away for a mid-day break\, Chima offers an elevated experience without compromising your schedule. \n\nChoose Your Friday Lunch Experience\nGOURMET BAR  $20\nEnjoy our Gourmet Bar\, featuring a curated selection of hot dishes and cold specialties\, including:Filet Mignon with Gorgonzola Sauce · Au Gratin Potatoes · Smoked Salmon · Imported Cheeses & Charcuterie · Beef Carpaccio · Gourmet Salads and additional selections. \nÀ LA CARTE CUTS\nEnhance your experience with grilled protein add-ons: \n\nTop Sirloin – Picanha (10 oz) $14\nFilet Mignon Wrapped in Bacon (6 pieces) $14\nSalmon (8 oz) $14\nRibeye (10 oz) $24\nLamb Chops (10 oz) $30\n\nSPECIAL RODIZIO  $40\nFor a more indulgent experience\, enjoy our Special Rodizio\, featuring a selection of signature cuts served tableside\, along with the Gourmet Bar and traditional Brazilian side dishes. \nSelect cuts include:Top Sirloin (Picanha)\, Garlic Top Sirloin\, Filet Wrapped in Bacon\, Lamb Picanha\, Aji Chicken Thighs\, Beer-Marinated Drumsticks\, Brazilian Sausage\, Cheddar Sausage\, Grilled Coalho Cheese\, and Grilled Pineapple. \nSide dishes include:Creamy mashed potatoes\, fried polenta\, and fried bananas. \nReservations (704) 601-4141\nOr Click to reserve online \nA New Way to Lunch on Restaurant Row\nChima’s Friday lunch in Orlando offers the perfect balance between efficiency and experience.\nIdeal for business meetings\, client lunches\, or a relaxed mid-day escape\, it brings the signature Chima atmosphere to a format designed for your day. \nPlease note: Complete rodizio is available for lunch on Saturdays and Sundays. \n  \n 
URL:https://chimasteakhouse.com/event/friday-lunch-at-chima-steakhouse-orlando/
CATEGORIES:Orlando
ATTACH;FMTTYPE=image/jpeg:https://chimasteakhouse.com/wp-content/uploads/2026/03/CLT-Friday-Lunch-HAPPENINGS-1.jpg
END:VEVENT
END:VCALENDAR