BEGIN:VCALENDAR
VERSION:2.0
PRODID:-//Chima Steakhouse - ECPv6.15.20//NONSGML v1.0//EN
CALSCALE:GREGORIAN
METHOD:PUBLISH
X-ORIGINAL-URL:https://chimasteakhouse.com
X-WR-CALDESC:Events for Chima Steakhouse
REFRESH-INTERVAL;VALUE=DURATION:PT1H
X-Robots-Tag:noindex
X-PUBLISHED-TTL:PT1H
BEGIN:VTIMEZONE
TZID:America/New_York
BEGIN:DAYLIGHT
TZOFFSETFROM:-0500
TZOFFSETTO:-0400
TZNAME:EDT
DTSTART:20250309T070000
END:DAYLIGHT
BEGIN:STANDARD
TZOFFSETFROM:-0400
TZOFFSETTO:-0500
TZNAME:EST
DTSTART:20251102T060000
END:STANDARD
BEGIN:DAYLIGHT
TZOFFSETFROM:-0500
TZOFFSETTO:-0400
TZNAME:EDT
DTSTART:20260308T070000
END:DAYLIGHT
BEGIN:STANDARD
TZOFFSETFROM:-0400
TZOFFSETTO:-0500
TZNAME:EST
DTSTART:20261101T060000
END:STANDARD
BEGIN:DAYLIGHT
TZOFFSETFROM:-0500
TZOFFSETTO:-0400
TZNAME:EDT
DTSTART:20270314T070000
END:DAYLIGHT
BEGIN:STANDARD
TZOFFSETFROM:-0400
TZOFFSETTO:-0500
TZNAME:EST
DTSTART:20271107T060000
END:STANDARD
END:VTIMEZONE
BEGIN:VEVENT
DTSTART;VALUE=DATE:20260123
DTEND;VALUE=DATE:20260801
DTSTAMP:20260423T115513
CREATED:20260123T142224Z
LAST-MODIFIED:20260123T142224Z
UID:87571-1769126400-1785542399@chimasteakhouse.com
SUMMARY:Happy Hour at Chima Tysons
DESCRIPTION:Weekdays just got better! \nJoin us Monday through Friday from 4:30 PM to 7:00 PM  for Happy Hour at our Bar & Lounge.\nSip on handcrafted cocktails and enjoy savory appetizers in a vibrant\, upscale setting – perfect for after work or a casual night out. \nNo reservations required for happy hour. \n\nPlanning a group gathering?\nOur Bar & Lounge is the ideal spot for company cocktail hours\, birthday celebrations\, and social get-togethers.\nContact our Sales Manager to host your next event at Chima Tysons and explore our specials for bar parties.\nMichelle Quisbert (703) 639-3088\nOr michelle.quisbert@chimasteakhouse.com
URL:https://chimasteakhouse.com/event/happy-hour-at-chima-tysons/
CATEGORIES:Tyson's Corner
ATTACH;FMTTYPE=image/png:https://chimasteakhouse.com/wp-content/uploads/2026/01/Happenings-Happy-Hour-4x3-1.png
END:VEVENT
END:VCALENDAR