BEGIN:VCALENDAR
VERSION:2.0
PRODID:-//Chima Steakhouse - ECPv6.15.20//NONSGML v1.0//EN
CALSCALE:GREGORIAN
METHOD:PUBLISH
X-ORIGINAL-URL:https://chimasteakhouse.com
X-WR-CALDESC:Events for Chima Steakhouse
REFRESH-INTERVAL;VALUE=DURATION:PT1H
X-Robots-Tag:noindex
X-PUBLISHED-TTL:PT1H
BEGIN:VTIMEZONE
TZID:America/New_York
BEGIN:DAYLIGHT
TZOFFSETFROM:-0500
TZOFFSETTO:-0400
TZNAME:EDT
DTSTART:20240310T070000
END:DAYLIGHT
BEGIN:STANDARD
TZOFFSETFROM:-0400
TZOFFSETTO:-0500
TZNAME:EST
DTSTART:20241103T060000
END:STANDARD
BEGIN:DAYLIGHT
TZOFFSETFROM:-0500
TZOFFSETTO:-0400
TZNAME:EDT
DTSTART:20250309T070000
END:DAYLIGHT
BEGIN:STANDARD
TZOFFSETFROM:-0400
TZOFFSETTO:-0500
TZNAME:EST
DTSTART:20251102T060000
END:STANDARD
BEGIN:DAYLIGHT
TZOFFSETFROM:-0500
TZOFFSETTO:-0400
TZNAME:EDT
DTSTART:20260308T070000
END:DAYLIGHT
BEGIN:STANDARD
TZOFFSETFROM:-0400
TZOFFSETTO:-0500
TZNAME:EST
DTSTART:20261101T060000
END:STANDARD
BEGIN:DAYLIGHT
TZOFFSETFROM:-0500
TZOFFSETTO:-0400
TZNAME:EDT
DTSTART:20270314T070000
END:DAYLIGHT
BEGIN:STANDARD
TZOFFSETFROM:-0400
TZOFFSETTO:-0500
TZNAME:EST
DTSTART:20271107T060000
END:STANDARD
END:VTIMEZONE
BEGIN:VEVENT
DTSTART;VALUE=DATE:20250716
DTEND;VALUE=DATE:20260701
DTSTAMP:20260423T054442
CREATED:20250716T144419Z
LAST-MODIFIED:20260419T152321Z
UID:74320-1752624000-1782863999@chimasteakhouse.com
SUMMARY:Weekend Lunch at Chima Fort Lauderdale - starting at $36
DESCRIPTION:Your weekend lunch plans are officially set. \nJoin us every Saturday and Sunday for a relaxed and flavorful lunch experience at Chima – perfect for catching up with friends\, family gatherings\, or a leisurely midday indulgence. \nGourmet Salad Bar  $36\nEnjoy unlimited access to our gourmet salad bar featuring fresh salads\, imported charcuterie and cheeses\, hot dishes\, and seasonal specialties. \nA perfect option for those who want to experience Chima’s flavors at a lighter pace. \nFull Rodizio Experience  $52*\nIncludes unlimited signature cuts\, gourmet salad bar\, and traditional side dishes. \nSavor a curated selection of premium meats and non-meat items\, including:Top Sirloin (Picanha)\, Top Sirloin with Garlic\,  Filet Mignon\, Filet Wrapped in Bacon\, Teriyaki Filet Mignon;\nBeef Ribs\, Ribeye\, Flank Steak\, Lamb Chops\, Lamb Picanha\, Salmon\, Shrimp\, Beer-Marinated Drumsticks\, Aji Chicken Thighs\,\nBrazilian Sausage\, Cheddar Sausage\, Grilled Vegetables\, Coalho Cheese\, and Pineapple with Cinnamon. \nTraditional sides include: creamy mashed potatoes\, fried polenta\, and fried bananas. \n\nEnhance Your Experience\nAdd two grilled lobster tails to any menu option for only $22 \nBottomless Drinks  $34.90**Unlimited Mimosas\, Bloody Marys\, and Sangria. \nSaturdays & Sundays from 12:30 p.m. to 3:00 p.m.\nFor reservations call (954) 712-0580 \nor Click to reserve online \n\n*Excludes Holidays\n** Must be 21 & over to consume alcohol
URL:https://chimasteakhouse.com/event/weekend-lunch-at-chima-starting-at-36/
CATEGORIES:Fort Lauderdale
ATTACH;FMTTYPE=image/png:https://chimasteakhouse.com/wp-content/uploads/2025/05/Screenshot-2025-05-09-at-12.14.37 PM.png
END:VEVENT
BEGIN:VEVENT
DTSTART;VALUE=DATE:20250925
DTEND;VALUE=DATE:20260501
DTSTAMP:20260423T054442
CREATED:20250925T160925Z
LAST-MODIFIED:20260303T150407Z
UID:81026-1758758400-1777593599@chimasteakhouse.com
SUMMARY:The Zero-Proof Cocktail Collection at Chima
DESCRIPTION:Discover our Zero-Proof Cocktail Collection\, crafted with Ritual Zero Proof –  premium\, certified 0% alcohol spirits. \nDesigned to deliver the full flavor\, complexity\, and elegance of classic cocktails – without the alcohol – this collection brings balance and sophistication to every sip. \nStrawberry Lemon Drop – Zero-proof gin\, fresh lemon juice\, and strawberry purée in a sugar-rimmed glass. \nCreamy Blueberry Martini – Blueberries\, zero-proof gin\, and velvety condensed milk for a silky\, fruit-forward finish. \nCoconut Mojito – Zero-proof rum\, tropical piña colada notes\, fresh lime\, and mint. \nPineapple Caipirinha – A Brazilian-inspired blend with zero-proof rum\, pineapple\, lime\, and sugar. \nPassion Fruit Margarita – Zero-proof tequila\, fresh lime\, and vibrant passion fruit with a sugar rim. \nAvailable at our Bar & Lounge and in the Main Dining Room — $14 \nRaise a glass to mindful sipping.
URL:https://chimasteakhouse.com/event/zero-proof-cocktails-have-arrived/
CATEGORIES:Charlotte,Fort Lauderdale,Orlando,Tyson's Corner
ATTACH;FMTTYPE=image/png:https://chimasteakhouse.com/wp-content/uploads/2025/09/Happenings-Zero-Proof-1-1.png
END:VEVENT
BEGIN:VEVENT
DTSTART;VALUE=DATE:20260120
DTEND;VALUE=DATE:20260701
DTSTAMP:20260423T054442
CREATED:20260120T193413Z
LAST-MODIFIED:20260123T150147Z
UID:87389-1768867200-1782863999@chimasteakhouse.com
SUMMARY:Gourmet Salad Bar Experience at Chima Steakhouse | Fort Lauderdale
DESCRIPTION:Looking for a fresh\, lighter dining option in Fort Lauderdale?At Chima Steakhouse Fort Lauderdale\, guests can enjoy our renowned Gourmet Salad Bar Experience as a complete dining option for both lunch and dinner. \nPerfect for those seeking balance\, variety\, or a lighter meal\, the Gourmet Salad Bar  offers an elevated alternative within the Chima Experience – without compromising quality\, flavor\, or atmosphere. \nAvailable for weekend lunch and dinner nightly\, the Gourmet Salad Bar at Chima Fort Lauderdale features over 35 high-quality selections\, thoughtfully curated to deliver freshness\, variety\, and satisfaction with every visit. \nReservations (954) 712-0580\nOr Click to reserve online \n\nThis Experience Is Ideal For\n\nGuests who prefer a lighter meal\nHealth-conscious diners\nVegetarian-leaning guests\nThose dining with others enjoying rodizio but choosing a different option\n\nWhat’s Included:\nFresh Salads & Seasonal Selections\nRoasted artichoke\, arugula\, beets\, Caesar salad\, cantaloupe\, roasted cauliflower\, chicken potato salad\, fresh mozzarella\, mesclun salad\, mushroom marinade\, orzo pasta\, quinoa\, red pepper\, smoked salmon\, street corn salad\, tabbouleh\, tomato\, white cheese\, asparagus\, broccoli\, eggplant\, kani mango\, romaine\, seafood salad\, and carpaccio.\nCharcuterie & Artisanal Cheeses\nProsciutto di Parma\, mortadella\, soppressata\, Gouda\, Parmesan.\nHot Items\nAu gratin potatoes\, black beans\, brown rice with vegetables\, white rice\, and creamy vegetable soup.\nPreserves & Accompaniments\nMarinated olives\, sun-dried tomatoes\, pepperoncini\, hearts of palm\, baby corn\, cornichons\, artichokes\, peppadew red peppers\, onions vinaigrette\, giardiniera\, peas\, and pimento olives.\n\n\nA Complete Chima Dining Experience\nThe Gourmet Salad Bar Experience is a complete dining option and an integral part of the Chima Experience –  served in the same elegant setting\, with the same attentive service our Fort Lauderdale guests expect. \nWhether you’re dining solo\, meeting friends\, or celebrating with a group\, this experience offers flexibility without compromise. \nLocated on Las Olas Boulevard –  Chima Steakhouse Fort Lauderdale \n 
URL:https://chimasteakhouse.com/event/gourmet-salad-bar-experience-at-chima-steakhouse-fort-lauderdale/
CATEGORIES:Fort Lauderdale
ATTACH;FMTTYPE=image/png:https://chimasteakhouse.com/wp-content/uploads/2025/01/Happenings-Gourmet-Salad-Bar-4x3-1.png
END:VEVENT
BEGIN:VEVENT
DTSTART;VALUE=DATE:20260123
DTEND;VALUE=DATE:20260801
DTSTAMP:20260423T054442
CREATED:20260123T142657Z
LAST-MODIFIED:20260303T152055Z
UID:87575-1769126400-1785542399@chimasteakhouse.com
SUMMARY:Happy Hour & Live Music at Chima Fort Lauderdale
DESCRIPTION:Weekdays just got better on Las Olas. \nJoin us Monday through Friday from 5:00 PM to 7:00 PM for Happy Hour at our Bar & Lounge at Chima Fort Lauderdale. \nSip handcrafted cocktails\, enjoy savory appetizers\, and unwind in an upscale setting perfect for after work or an easy night out. \nLive Music in the CourtyardThursday through Saturday starting at 6:00 PM\, enjoy live music in our courtyard – bringing energy\, ambiance\, and the perfect soundtrack to your evening on Las Olas Boulevard. \nNo reservations required for Happy Hour. \n\nPlanning a Group Gathering?\nOur Bar & Lounge is the ideal setting for company cocktail hours\, birthday celebrations\, and social gatherings. \nContact our Sales Manager to host your next event at Chima Fort Lauderdale and explore our specials for bar parties:Ashley Williams (954) 809-5280\nOr ashley.williams@chimasteakhouse.com
URL:https://chimasteakhouse.com/event/happy-hour-at-chima-fort-lauderdale/
CATEGORIES:Fort Lauderdale
ATTACH;FMTTYPE=image/png:https://chimasteakhouse.com/wp-content/uploads/2026/01/Happenings-Happy-Hour-4x3-1.png
END:VEVENT
BEGIN:VEVENT
DTSTART;VALUE=DATE:20260407
DTEND;VALUE=DATE:20260511
DTSTAMP:20260423T054442
CREATED:20260407T221549Z
LAST-MODIFIED:20260416T180421Z
UID:93732-1775520000-1778457599@chimasteakhouse.com
SUMMARY:Mother’s Day 2026 at Chima  Fort Lauderdale | Las Olas Dining
DESCRIPTION:Celebrate Mother’s Day 2026 on Las Olas .\nMake this Mother’s Day unforgettable by joining us at Chima Steakhouse in Fort Lauderdale. Located in the heart of Las Olas\, we provide the perfect upscale atmosphere to honor Mom. \nSunday\, May 10th l 11:00 AM to 9:00 PM\nTreat Mom to an unforgettable  Experience – Mom deserves the best!\n$70 per person \nkids 7 to 11: Half off\nKids 6 & under: Complimentary \nReservations (954) 712-0580\nOr Click to reserve online \n\n\nA credit card is required to reserve. Cancelations must be done by May 9th before 6 p.m. to avoid a $20 per person no-show fee.\nNo coupons accepted on May 10\, 2026
URL:https://chimasteakhouse.com/event/mothers-day-2026-at-chima-fort-lauderdale-las-olas-dining/
CATEGORIES:Fort Lauderdale
ATTACH;FMTTYPE=image/png:https://chimasteakhouse.com/wp-content/uploads/2026/04/Happenings-Mothers-Day-1200x800-1.png
END:VEVENT
END:VCALENDAR