BEGIN:VCALENDAR
VERSION:2.0
PRODID:-//Chima Steakhouse - ECPv6.15.20//NONSGML v1.0//EN
CALSCALE:GREGORIAN
METHOD:PUBLISH
X-WR-CALNAME:Chima Steakhouse
X-ORIGINAL-URL:https://chimasteakhouse.com
X-WR-CALDESC:Events for Chima Steakhouse
REFRESH-INTERVAL;VALUE=DURATION:PT1H
X-Robots-Tag:noindex
X-PUBLISHED-TTL:PT1H
BEGIN:VTIMEZONE
TZID:America/New_York
BEGIN:DAYLIGHT
TZOFFSETFROM:-0500
TZOFFSETTO:-0400
TZNAME:EDT
DTSTART:20230312T070000
END:DAYLIGHT
BEGIN:STANDARD
TZOFFSETFROM:-0400
TZOFFSETTO:-0500
TZNAME:EST
DTSTART:20231105T060000
END:STANDARD
BEGIN:DAYLIGHT
TZOFFSETFROM:-0500
TZOFFSETTO:-0400
TZNAME:EDT
DTSTART:20240310T070000
END:DAYLIGHT
BEGIN:STANDARD
TZOFFSETFROM:-0400
TZOFFSETTO:-0500
TZNAME:EST
DTSTART:20241103T060000
END:STANDARD
BEGIN:DAYLIGHT
TZOFFSETFROM:-0500
TZOFFSETTO:-0400
TZNAME:EDT
DTSTART:20250309T070000
END:DAYLIGHT
BEGIN:STANDARD
TZOFFSETFROM:-0400
TZOFFSETTO:-0500
TZNAME:EST
DTSTART:20251102T060000
END:STANDARD
BEGIN:DAYLIGHT
TZOFFSETFROM:-0500
TZOFFSETTO:-0400
TZNAME:EDT
DTSTART:20260308T070000
END:DAYLIGHT
BEGIN:STANDARD
TZOFFSETFROM:-0400
TZOFFSETTO:-0500
TZNAME:EST
DTSTART:20261101T060000
END:STANDARD
BEGIN:DAYLIGHT
TZOFFSETFROM:-0500
TZOFFSETTO:-0400
TZNAME:EDT
DTSTART:20270314T070000
END:DAYLIGHT
BEGIN:STANDARD
TZOFFSETFROM:-0400
TZOFFSETTO:-0500
TZNAME:EST
DTSTART:20271107T060000
END:STANDARD
END:VTIMEZONE
BEGIN:VEVENT
DTSTART;VALUE=DATE:20241104
DTEND;VALUE=DATE:20260701
DTSTAMP:20260423T194438
CREATED:20250110T180303Z
LAST-MODIFIED:20260123T145913Z
UID:59732-1730678400-1782863999@chimasteakhouse.com
SUMMARY:The Gourmet Salad Bar Experience l Chima Orlando
DESCRIPTION:Looking for a fresh\, lighter dining option in Orlando?At Chima Steakhouse Orlando\, guests can enjoy our renowned Gourmet Salad Bar experience as a complete dining option for both lunch and dinner. \nPerfect for those seeking balance\, variety\, or a lighter meal\, our Gourmet Salad Bar offers an elevated alternative within the Chima Experience – without compromising quality\, flavor\, or atmosphere. \nAvailable for lunch on weekends and dinner every night\, the Gourmet Salad Bar at Chima Orlando features over 35 high-quality items\, thoughtfully curated to offer freshness\, variety\, and satisfaction in every visit. \nThis experience is ideal for: \n\nGuests who prefer a lighter meal\nHealth-conscious diners\nVegetarian-leaning guests\nThose joining others for rodizio but choosing a different option\n\nAll for $36 during weekend lunch and dinner. \n  \n\nFresh Salads & Seasonal Selections\nRoasted artichoke\, arugula\, beets\, Caesar salad\, cantaloupe\, roasted cauliflower\, chicken potato salad\, fresh mozzarella\, mesclun salad\, mushroom marinade\, orzo pasta\, quinoa\, red pepper\, smoked salmon\, street corn salad\, tabbouleh\, tomato\, white cheese\, asparagus\, broccoli\, eggplant\, kani mango\, romaine\, seafood salad\, carpaccio.\nCharcuterie & Artisanal Cheeses\nProsciutto di Parma\, mortadella\, soppressata\, Gouda\, Parmesan.\nHot Items\nAu gratin potatoes\, black beans\, brown rice with vegetables\, white rice\, creamy vegetable soup.\nPreserves & Accompaniments\nMarinated olives\, sun-dried tomatoes\, pepperoncini\, hearts of palm\, baby corn\, cornichons\, artichokes\, peppadew red peppers\, onions vinaigrette\, giardiniera\, peas\, pimento olives.\nThe Gourmet Salad Bar Experience is a complete dining option and part of the Chima Experience –  served in the same elegant setting\, with the same attentive service our Orlando guests expect. \nWhether you’re dining solo\, joining friends\, or celebrating with a group\, this experience offers flexibility without compromise. \n  \nJoin us and discover why our Gourmet Salad Bar in Orlando is one of the most celebrated parts of the Chima Experience. \nCall (321)404-6001 \nor Click here to book \n 
URL:https://chimasteakhouse.com/event/discover-chimas-gourmet-salad-bar/
CATEGORIES:Orlando
ATTACH;FMTTYPE=image/png:https://chimasteakhouse.com/wp-content/uploads/2025/01/Happenings-Gourmet-Salad-Bar-4x3-1.png
END:VEVENT
END:VCALENDAR